BEGIN:VCALENDAR
VERSION:2.0
PRODID:-//Restoration for All - ECPv6.15.20//NONSGML v1.0//EN
CALSCALE:GREGORIAN
METHOD:PUBLISH
X-WR-CALNAME:Restoration for All
X-ORIGINAL-URL:https://restoreall.org
X-WR-CALDESC:Events for Restoration for All
REFRESH-INTERVAL;VALUE=DURATION:PT1H
X-Robots-Tag:noindex
X-PUBLISHED-TTL:PT1H
BEGIN:VTIMEZONE
TZID:America/Chicago
BEGIN:DAYLIGHT
TZOFFSETFROM:-0600
TZOFFSETTO:-0500
TZNAME:CDT
DTSTART:20250309T080000
END:DAYLIGHT
BEGIN:STANDARD
TZOFFSETFROM:-0500
TZOFFSETTO:-0600
TZNAME:CST
DTSTART:20251102T070000
END:STANDARD
BEGIN:DAYLIGHT
TZOFFSETFROM:-0600
TZOFFSETTO:-0500
TZNAME:CDT
DTSTART:20260308T080000
END:DAYLIGHT
BEGIN:STANDARD
TZOFFSETFROM:-0500
TZOFFSETTO:-0600
TZNAME:CST
DTSTART:20261101T070000
END:STANDARD
BEGIN:DAYLIGHT
TZOFFSETFROM:-0600
TZOFFSETTO:-0500
TZNAME:CDT
DTSTART:20270314T080000
END:DAYLIGHT
BEGIN:STANDARD
TZOFFSETFROM:-0500
TZOFFSETTO:-0600
TZNAME:CST
DTSTART:20271107T070000
END:STANDARD
END:VTIMEZONE
BEGIN:VEVENT
DTSTART;TZID=America/Chicago:20260424T130000
DTEND;TZID=America/Chicago:20260424T163000
DTSTAMP:20260420T083732
CREATED:20260409T183436Z
LAST-MODIFIED:20260409T183436Z
UID:5844-1777035600-1777048200@restoreall.org
SUMMARY:African Heritage Day on the Hill 2026
DESCRIPTION:
URL:https://restoreall.org/event/african-heritage-day-on-the-hill-2026/
LOCATION:Minnesota State Capitol\, 75 Rev Dr Martin Luther King Jr Boulevard.\, St. Paul\, MN\, 55155\, United States
ATTACH;FMTTYPE=image/png:https://restoreall.org/wp-content/uploads/2026/04/Day-on-the-Hill-Program-MN-Sponsor-1.png
END:VEVENT
BEGIN:VEVENT
DTSTART;TZID=America/Chicago:20260427T100000
DTEND;TZID=America/Chicago:20260427T140000
DTSTAMP:20260420T083732
CREATED:20260310T203254Z
LAST-MODIFIED:20260310T203624Z
UID:5810-1777284000-1777298400@restoreall.org
SUMMARY:Focus Group with MN Department of Health
DESCRIPTION:
URL:https://restoreall.org/event/focus-group-with-mn-department-of-health/
LOCATION:MN
END:VEVENT
END:VCALENDAR