BEGIN:VCALENDAR
VERSION:2.0
PRODID:-//Restoration for All - ECPv6.15.20//NONSGML v1.0//EN
CALSCALE:GREGORIAN
METHOD:PUBLISH
X-ORIGINAL-URL:https://restoreall.org
X-WR-CALDESC:Events for Restoration for All
REFRESH-INTERVAL;VALUE=DURATION:PT1H
X-Robots-Tag:noindex
X-PUBLISHED-TTL:PT1H
BEGIN:VTIMEZONE
TZID:America/Chicago
BEGIN:DAYLIGHT
TZOFFSETFROM:-0600
TZOFFSETTO:-0500
TZNAME:CDT
DTSTART:20220313T080000
END:DAYLIGHT
BEGIN:STANDARD
TZOFFSETFROM:-0500
TZOFFSETTO:-0600
TZNAME:CST
DTSTART:20221106T070000
END:STANDARD
BEGIN:DAYLIGHT
TZOFFSETFROM:-0600
TZOFFSETTO:-0500
TZNAME:CDT
DTSTART:20230312T080000
END:DAYLIGHT
BEGIN:STANDARD
TZOFFSETFROM:-0500
TZOFFSETTO:-0600
TZNAME:CST
DTSTART:20231105T070000
END:STANDARD
BEGIN:DAYLIGHT
TZOFFSETFROM:-0600
TZOFFSETTO:-0500
TZNAME:CDT
DTSTART:20240310T080000
END:DAYLIGHT
BEGIN:STANDARD
TZOFFSETFROM:-0500
TZOFFSETTO:-0600
TZNAME:CST
DTSTART:20241103T070000
END:STANDARD
BEGIN:DAYLIGHT
TZOFFSETFROM:-0600
TZOFFSETTO:-0500
TZNAME:CDT
DTSTART:20250309T080000
END:DAYLIGHT
BEGIN:STANDARD
TZOFFSETFROM:-0500
TZOFFSETTO:-0600
TZNAME:CST
DTSTART:20251102T070000
END:STANDARD
BEGIN:DAYLIGHT
TZOFFSETFROM:-0600
TZOFFSETTO:-0500
TZNAME:CDT
DTSTART:20260308T080000
END:DAYLIGHT
BEGIN:STANDARD
TZOFFSETFROM:-0500
TZOFFSETTO:-0600
TZNAME:CST
DTSTART:20261101T070000
END:STANDARD
BEGIN:DAYLIGHT
TZOFFSETFROM:-0600
TZOFFSETTO:-0500
TZNAME:CDT
DTSTART:20270314T080000
END:DAYLIGHT
BEGIN:STANDARD
TZOFFSETFROM:-0500
TZOFFSETTO:-0600
TZNAME:CST
DTSTART:20271107T070000
END:STANDARD
END:VTIMEZONE
BEGIN:VEVENT
DTSTART;TZID=America/Chicago:20260329T140000
DTEND;TZID=America/Chicago:20260329T150000
DTSTAMP:20260419T135809
CREATED:20260326T194612Z
LAST-MODIFIED:20260326T194612Z
UID:5838-1774792800-1774796400@restoreall.org
SUMMARY:Follow Along Program Information Fair
DESCRIPTION:
URL:https://restoreall.org/event/follow-along-program-information-fair/
LOCATION:RCCG Restoration Chapel\, 1535 Como Ave\, St. Paul\, MN\, 55068\, United States
CATEGORIES:Resources & Support
ATTACH;FMTTYPE=application/pdf:https://restoreall.org/wp-content/uploads/2026/03/03292026-FFN-Follow-Along-Program-Flyer-2.pdf
ORGANIZER;CN="Progressive Individual Resources Inc":MAILTO:info@pirimn.org
END:VEVENT
BEGIN:VEVENT
DTSTART;TZID=America/Chicago:20260329T120000
DTEND;TZID=America/Chicago:20260329T140000
DTSTAMP:20260419T135809
CREATED:20260326T194046Z
LAST-MODIFIED:20260326T194046Z
UID:5834-1774785600-1774792800@restoreall.org
SUMMARY:Family\, Friends\, and Neighbors Childcare Resource Fair
DESCRIPTION:
URL:https://restoreall.org/event/family-friends-and-neighbors-childcare-resource-fair/
LOCATION:RCCG Restoration Chapel\, 1535 Como Ave\, St. Paul\, MN\, 55068\, United States
CATEGORIES:Family, Friends, & Neighbors (FFN) Program,Legal Non-licensed Provider (LNL)
ATTACH;FMTTYPE=application/pdf:https://restoreall.org/wp-content/uploads/2026/03/03292026-FFN-Follow-Along-Program-Flyer-1.pdf
ORGANIZER;CN="Progressive Individual Resources Inc":MAILTO:info@pirimn.org
END:VEVENT
BEGIN:VEVENT
DTSTART;TZID=America/Chicago:20251022T173000
DTEND;TZID=America/Chicago:20251022T190000
DTSTAMP:20260419T135809
CREATED:20251017T151518Z
LAST-MODIFIED:20251017T185649Z
UID:3545-1761154200-1761159600@restoreall.org
SUMMARY:Somali Family Success Night
DESCRIPTION:
URL:https://restoreall.org/event/somali-family-success-night/
LOCATION:Lakeville South\, 21135 Jacquard Ave\, Lakeville\, MN\, 55044\, United States
CATEGORIES:Resources & Support,Resources and Education
ATTACH;FMTTYPE=application/pdf:https://restoreall.org/wp-content/uploads/2025/10/Somali-Family-Success-Night.pdf
END:VEVENT
BEGIN:VEVENT
DTSTART;TZID=America/Chicago:20251005T120000
DTEND;TZID=America/Chicago:20251005T150000
DTSTAMP:20260419T135809
CREATED:20250925T003420Z
LAST-MODIFIED:20250925T003420Z
UID:3464-1759665600-1759676400@restoreall.org
SUMMARY:Family\, Friends\, & Neighbors Childcare Providers
DESCRIPTION:
URL:https://restoreall.org/event/family-friends-neighbors-childcare-providers-2/
LOCATION:Maplewood YMCA Community Center\, 2100 White Bear Ave\, Maplewood\, MN 55109\, Maplewood\, MN\, 55109\, United States
CATEGORIES:Family, Friends, & Neighbors (FFN) Program
ATTACH;FMTTYPE=application/pdf:https://restoreall.org/wp-content/uploads/2025/09/10052025-Family-Friends-Neighbors.pdf
END:VEVENT
BEGIN:VEVENT
DTSTART;TZID=America/Chicago:20250907T150000
DTEND;TZID=America/Chicago:20250907T170000
DTSTAMP:20260419T135809
CREATED:20250822T190223Z
LAST-MODIFIED:20250822T190725Z
UID:3441-1757257200-1757264400@restoreall.org
SUMMARY:Back to School & Community Mental Wellness
DESCRIPTION:As back to school continues\, so does our giveaways! Including a couple raffles for a $25 gift card\, must be in attendance to receive the raffle. \nDuring this event you can expect COVID-19 testing kits\, American Health Association Blood Pressure Hub\, back to school supplies\, and additional resources. \nChildren must be present to receive school supplies\, which include; \n\n\n\nBackpacks (each w/a Stationery Kit)\nStationery Kits\n\n6″ inch Ruler\nNo.2 Pencils\nColored Pencils\nPencil Sharpener\nCrayons\nEraser\n\n\nNotebooks\nProtractors\nScissors\n\n\n\n  \nSunday\, September 7th\, 2025 | 3:00 pm to 5:00 pm \nChurch Parking Lot of Mountain Of Fire & Miracles Ministries\n2373 University Ave W\, St. Paul\, MN 55114
URL:https://restoreall.org/event/back-to-school-community-mental-wellness-2/
LOCATION:Mountain Of Fire & Miracles Ministries\, 2373 University Ave W\, St Paul\, MN\, 55114\, United States
CATEGORIES:Back to School,COVID-19 Home Tests,Resources & Support
ATTACH;FMTTYPE=image/png:https://restoreall.org/wp-content/uploads/2025/08/Flyer-for-MFM-Sun-September-7th-2025.png
ORGANIZER;CN="Progressive Individual Resources Inc":MAILTO:info@pirimn.org
END:VEVENT
BEGIN:VEVENT
DTSTART;TZID=America/Chicago:20250828T100000
DTEND;TZID=America/Chicago:20250828T160000
DTSTAMP:20260419T135809
CREATED:20250822T184156Z
LAST-MODIFIED:20250822T184307Z
UID:3440-1756375200-1756396800@restoreall.org
SUMMARY:Backpack Giveaways!
DESCRIPTION:While supplies last. \nChildren must be present to receive school supplies\, which include; \n\n\n\nBackpacks (each w/a Stationery Kit)\nStationery Kits\n\n6″ inch Ruler\nNo.2 Pencils\nColored Pencils\nPencil Sharpener\nCrayons\nEraser\nNotebooks\n\n\nProtractors\nScissors\n\n\n\nREFA can also provide COVID-19 testing kits\, American Health Association Blood Pressure check\, and additional resources. \nThursday\, August 28th\, 2025 | 10:00 am to 4:00 pm \n  \nRestoration for All\, Suite 18 \n1870 50th St E\, Inver Grove Heights\, MN 55077
URL:https://restoreall.org/event/backpack-giveaways-3/
LOCATION:Restoration for All\, Inc.\, 1870 50th St E\, Suite 18\, Inver Grove Heights\, MN\, 55077\, United States
CATEGORIES:Back to School,COVID-19 Home Tests
ATTACH;FMTTYPE=image/png:https://restoreall.org/wp-content/uploads/2025/08/Back-to-school-August-26th-to-28th.png
ORGANIZER;CN="Restoration for All Inc.":MAILTO:tmola@restoreall.org
END:VEVENT
BEGIN:VEVENT
DTSTART;TZID=America/Chicago:20250827T100000
DTEND;TZID=America/Chicago:20250827T160000
DTSTAMP:20260419T135809
CREATED:20250822T183745Z
LAST-MODIFIED:20250822T183946Z
UID:3439-1756288800-1756310400@restoreall.org
SUMMARY:Backpack Giveaways!
DESCRIPTION:While supplies last. \nChildren must be present to receive school supplies\, which include; \n\n\n\nBackpacks (each w/a Stationery Kit)\nStationery Kits\n\n6″ inch Ruler\nNo.2 Pencils\nColored Pencils\nPencil Sharpener\nCrayons\nEraser\n\n\nNotebooks\nProtractors\nScissors\n\n\n\nREFA can also provide COVID-19 testing kits\, American Health Association Blood Pressure check\, and additional resources. \nWednesday\, August 27th\, 2025 | 10:00 am to 4:00 pm \n  \nRestoration for All\, Suite 18 \n1870 50th St E\, Inver Grove Heights\, MN 55077
URL:https://restoreall.org/event/backpack-giveaways-2/
LOCATION:Restoration for All\, Inc.\, 1870 50th St E\, Suite 18\, Inver Grove Heights\, MN\, 55077\, United States
CATEGORIES:Back to School,COVID-19 Home Tests
ATTACH;FMTTYPE=image/png:https://restoreall.org/wp-content/uploads/2025/08/Back-to-school-August-26th-to-28th.png
ORGANIZER;CN="Restoration for All Inc.":MAILTO:tmola@restoreall.org
END:VEVENT
BEGIN:VEVENT
DTSTART;TZID=America/Chicago:20250826T100000
DTEND;TZID=America/Chicago:20250826T160000
DTSTAMP:20260419T135809
CREATED:20250822T183536Z
LAST-MODIFIED:20250822T184226Z
UID:3436-1756202400-1756224000@restoreall.org
SUMMARY:Backpack Giveaways!
DESCRIPTION:While supplies last. \nChildren must be present to receive school supplies\, which include; \n\n\n\nBackpacks (each w/a Stationery Kit)\nStationery Kits\n\n6″ inch Ruler\nNo.2 Pencils\nColored Pencils\nPencil Sharpener\nCrayons\nEraser\n\n\nNotebooks\nProtractors\nScissors\n\n\n\nREFA can also provide COVID-19 testing kits\, American Health Association Blood Pressure check\, and additional resources. \nTuesday\, August 26th\, 2025 | 10:00 am to 4:00 pm \n  \nRestoration for All\, Suite 18 \n1870 50th St E\, Inver Grove Heights\, MN 55077
URL:https://restoreall.org/event/backpack-giveaways/
LOCATION:Restoration for All\, Inc.\, 1870 50th St E\, Suite 18\, Inver Grove Heights\, MN\, 55077\, United States
CATEGORIES:Back to School,COVID-19 Home Tests
ATTACH;FMTTYPE=image/png:https://restoreall.org/wp-content/uploads/2025/08/Back-to-school-August-26th-to-28th.png
ORGANIZER;CN="Restoration for All Inc.":MAILTO:tmola@restoreall.org
END:VEVENT
BEGIN:VEVENT
DTSTART;TZID=America/Chicago:20250825T160000
DTEND;TZID=America/Chicago:20250825T190000
DTSTAMP:20260419T135809
CREATED:20250822T181310Z
LAST-MODIFIED:20250822T181657Z
UID:3433-1756137600-1756148400@restoreall.org
SUMMARY:Back to School & Community Outreach: Follow Along Program
DESCRIPTION:During this event you can expect COVID-19 testing kits\, American Health Association Blood Pressure Hub\, back to school supplies\, and additional resources. \nChildren must be present to receive school supplies\, which include; \n\n\n\nBackpacks (each w/a Stationery Kit)\nStationery Kits\n\n6″ inch Ruler\nNo.2 Pencils\nColored Pencils\nPencil Sharpener\nCrayons\nEraser\n\n\nNotebooks\nProtractors\nScissors\n\n\n\nLearn more about the Follow Along Program HERE! \nWALK-INS WELCOME! \n  \nMonday\, August 25th\, 2025 | 4:00 pm to 7:00 pm \nHilltop at Signal Hills\n15 Butler Ave E\, West St. Paul\, MN 55118
URL:https://restoreall.org/event/back-to-school-community-outreach-follow-along-program/
LOCATION:Hilltop at Signal Hills\, 15 Butler Ave E\, West St. Paul\, MN\, 55118\, United States
CATEGORIES:Back to School,COVID-19 Home Tests,Health and Wellness
ATTACH;FMTTYPE=image/png:https://restoreall.org/wp-content/uploads/2025/08/August-25-2025-Follow-along-program-and-Back-to-School-Flyer.png
END:VEVENT
BEGIN:VEVENT
DTSTART;TZID=America/Chicago:20250824T130000
DTEND;TZID=America/Chicago:20250824T153000
DTSTAMP:20260419T135809
CREATED:20250822T174757Z
LAST-MODIFIED:20250822T174757Z
UID:3431-1756040400-1756049400@restoreall.org
SUMMARY:Back to School & Community Mental Wellness
DESCRIPTION:Welcome all to one of many back to school events. During this event you can expect COVID-19 testing kits\, American Health Association Blood Pressure Hub\, back to school supplies\, and additional resources. \nChildren must be present to receive school supplies\, which include; \n\n\n\nBackpacks (each w/a Stationery Kit)\nStationery Kits\n\n6″ inch Ruler\nNo.2 Pencils\nColored Pencils\nPencil Sharpener\nCrayons\nEraser\n\n\nNotebooks\nProtractors\nScissors\n\n\n\nWALK-INS WELCOME! \n  \nSunday\, August 24th\, 2025 | 1:00 pm to 3:30 pm \nBellevue Ballroom\, Embassy Suites Hilton Minneapolis North\n6300 Earle Brown Drive\, Brooklyn Center\, MN 55430
URL:https://restoreall.org/event/back-to-school-community-mental-wellness/
LOCATION:Embassy Suites by Hilton Minneapolis North\, 6300 Earle Brown Drive\, Brooklyn Center\, MN\, 55430\, United States
CATEGORIES:Back to School,COVID-19 Home Tests,Health and Wellness,Wellness Program
ATTACH;FMTTYPE=image/png:https://restoreall.org/wp-content/uploads/2025/08/8.24.25-Back-To-School-.png
END:VEVENT
BEGIN:VEVENT
DTSTART;TZID=America/Chicago:20250624T130000
DTEND;TZID=America/Chicago:20250624T160000
DTSTAMP:20260419T135809
CREATED:20250609T153443Z
LAST-MODIFIED:20250618T183803Z
UID:3370-1750770000-1750780800@restoreall.org
SUMMARY:Healthcare Coverage & Community Wellbeing Resource Fair
DESCRIPTION:Join Portico Healthnet and a host of dedicated community organizations for an engaging event focused on connecting you with vital resources. Learn about health coverage options\, and essential community services\, all in one place! Don’t miss this opportunity to access the support and information your family needs to thrive. \nREGISTER HERE \nTuesday\, June 24th\, 2025 | 1:00 pm to 4:00 pm \n  \nBrookdale Library\, ABC Room \n6125 Shingle Creek Pkwy\, Suite 800\, \nBrooklyn Center\, 55430
URL:https://restoreall.org/event/healthcare-coverage-community-wellbeing-resource-fair/
LOCATION:Brookdale Library\, 6125 Shingle Creek Pkwy Suite 800\, Brooklyn Center\, MN\, 55430\, United States
CATEGORIES:Health and Wellness,Resources & Support
ATTACH;FMTTYPE=application/pdf:https://restoreall.org/wp-content/uploads/2025/06/June-20th-24th-2025.pdf
END:VEVENT
BEGIN:VEVENT
DTSTART;TZID=America/Chicago:20250619T100000
DTEND;TZID=America/Chicago:20250619T130000
DTSTAMP:20260419T135809
CREATED:20250617T162003Z
LAST-MODIFIED:20250617T162003Z
UID:3387-1750327200-1750338000@restoreall.org
SUMMARY:Fiesta Comunitaria de Bienestar
DESCRIPTION:
URL:https://restoreall.org/event/fiesta-comunitaria-de-bienestar/
LOCATION:Holland Lake Shelter\, 1100 Cliff Rd\, Eagan\, MN\, 55123\, United States
CATEGORIES:Family, Friends, & Neighbors (FFN) Program
ATTACH;FMTTYPE=application/pdf:https://restoreall.org/wp-content/uploads/2025/06/mini-feria-de-recursos-1.pdf
END:VEVENT
BEGIN:VEVENT
DTSTART;TZID=America/Chicago:20250504T130000
DTEND;TZID=America/Chicago:20250504T160000
DTSTAMP:20260419T135809
CREATED:20250306T204530Z
LAST-MODIFIED:20250523T152958Z
UID:531-1746363600-1746374400@restoreall.org
SUMMARY:Empowering BIPOC Families
DESCRIPTION:Community Outreach for Minnesota’s Follow Along Program can help you as you support and track your child’s development through age 3. You are your child’s first teacher and it’s a big job! We’re here to help enroll\, answer questions\, and offer resources. \nThere will be snacks and beverages and plenty activities for children that attend! Games\, story time\, crafts corner\, and more! \nSunday\, May 4th\, 2025 | 1:00 pm to 4:00 pm \nRSVP (651) 366-0279 or info@restoreall.org \nAdditional Information – English \nAdditional Information – Somali \nAdditional Information – Español \nAdditional Information – Hmoob \n  \nRobert Trail Library Large Meeting Room \n14395 S Robert Trail\, Rosemount\, MN 55068
URL:https://restoreall.org/event/empowering-bipoc-families3/
LOCATION:Robert Trail Library\, 14395 S Robert Trail\, Rosemount\, MN\, 55068\, United States
CATEGORIES:Resources & Support,Skills Training
ATTACH;FMTTYPE=image/png:https://restoreall.org/wp-content/uploads/2025/03/5.4.25.-Empowering-BIPOC-Families.png
END:VEVENT
BEGIN:VEVENT
DTSTART;TZID=America/Chicago:20250426T130000
DTEND;TZID=America/Chicago:20250426T160000
DTSTAMP:20260419T135809
CREATED:20250306T204512Z
LAST-MODIFIED:20250306T204634Z
UID:530-1745672400-1745683200@restoreall.org
SUMMARY:Empowering BIPOC Families
DESCRIPTION:Community Outreach for Minnesota’s Follow Along Program can help you as you support and track your child’s development through age 3. You are your child’s first teacher and it’s a big job! We’re here to help enroll\, answer questions\, and offer resources. \nThere will be snacks and beverages and plenty activities for children that attend! Games\, story time\, crafts corner\, and more! \nSaturday\, April 26th\, 2025 | 1:00 pm to 4:00 pm \nRSVP (651) 366-0279 or info@restoreall.org \nAdditional Information – English \nAdditional Information – Somali \nAdditional Information – Español \nAdditional Information – Hmoob \n  \nWescott Library Large Meeting Room \n1340 Wescott Rd\, Eagan\, MN 55123
URL:https://restoreall.org/event/empowering-bipoc-families2/
LOCATION:Wescott Library\, 1340 Wescott Rd\, Eagan\, MN\, 55123\, United States
CATEGORIES:Resources & Support,Skills Training
ATTACH;FMTTYPE=image/png:https://restoreall.org/wp-content/uploads/2025/03/4.26.25-Empowering-BIPOC-Families.png
END:VEVENT
BEGIN:VEVENT
DTSTART;TZID=America/Chicago:20250412T110000
DTEND;TZID=America/Chicago:20250412T160000
DTSTAMP:20260419T135809
CREATED:20250306T204500Z
LAST-MODIFIED:20250306T204621Z
UID:526-1744455600-1744473600@restoreall.org
SUMMARY:Empowering BIPOC Families
DESCRIPTION:Community Outreach for Minnesota’s Follow Along Program can help you as you support and track your child’s development through age 3. You are your child’s first teacher and it’s a big job! We’re here to help enroll\, answer questions\, and offer resources. \nThere will be snacks and beverages and plenty activities for children that attend! Games\, story time\, crafts corner\, and more! \nSaturday\, April 12th\, 2025 | 11:00 am to 4:00 pm \nRSVP (651) 366-0279 or info@restoreall.org \nAdditional Information – English \nAdditional Information – Somali \nAdditional Information – Español \nAdditional Information – Hmoob \n  \nKaposia Library Large Reading Room \n131 7th Ave N\, South St. Paul\, MN 55075
URL:https://restoreall.org/event/empowering-bipoc-families1/
LOCATION:Kaposia Library\, 131 7th ave N\, South Saint Paul\, MN\, 55075\, United States
CATEGORIES:Resources & Support,Skills Training
ATTACH;FMTTYPE=image/png:https://restoreall.org/wp-content/uploads/2025/03/04.12.25-Empowering-BIPOC-Families.png
END:VEVENT
BEGIN:VEVENT
DTSTART;TZID=America/Chicago:20250223T120000
DTEND;TZID=America/Chicago:20250223T160000
DTSTAMP:20260419T135809
CREATED:20250204T190843Z
LAST-MODIFIED:20250211T221031Z
UID:445-1740312000-1740326400@restoreall.org
SUMMARY:Family\, Friend\, & Neighbor (FFN) Child Care Providers and Resource Fair
DESCRIPTION:Join us at Amherst H. Wilder Auditorium from 12:00 pm to 4:00 pm to learn about what it means to be an FFN Provider. When you care for the children of family\, friends or neighbors (FFN)\, you are more than a babysitter\, you are providing critical support in helping children\, families and the community thrive. \nSunday\, February 23rd\, 2025 | 12:00 pm to 4:00 pm \nAmherst H. Wilder Auditorium A\, 451 Lexington Parkway North\, St. Paul\, MN 55104
URL:https://restoreall.org/event/2025-family-friend-neighbor-ffn/
LOCATION:Amherst  H. Wilder Foundation\, 451 Lexington Parkway North\, Saint Paul\, MN\, 55104\, United States
CATEGORIES:Legal Non-licensed Provider (LNL),Skills Training
ATTACH;FMTTYPE=image/png:https://restoreall.org/wp-content/uploads/2025/02/2025-Family-Friend-Neighbor-FFN-Child-Care-Providers-Resource-Fair.png
END:VEVENT
BEGIN:VEVENT
DTSTART;TZID=America/Chicago:20240520T130000
DTEND;TZID=America/Chicago:20240520T153000
DTSTAMP:20260419T135809
CREATED:20240503T174638Z
LAST-MODIFIED:20240503T174832Z
UID:436-1716210000-1716219000@restoreall.org
SUMMARY:Facilitated Conversation: Changing the Narrative on Mental Health and Suicide Prevention
DESCRIPTION:Anyone can help with starting conversations around mental health and suicide prevention. This facilitated conversation will guide the audience through meaningful discussions and conversations about mental health and suicide prevention and is meant to serve as the first step in changing how we view mental health and suicide. \nMonday\, May 20th\, 2024 | 1:00 pm – 3:30 pm \nWellShare International\, 122 W Franklin Ave\, Suite 510 Minneapolis\, MN 55404 \n 
URL:https://restoreall.org/event/facilitated-conversation-changing-the-narrative-on-mental-health-and-suicide-prevention/
LOCATION:WellShare International\, 122 W Franklin Ave\, Suite 510\, Minneapolis\, MN\, 55404\, United States
CATEGORIES:Mental Health and Suicide Prevention Programs,Skills Training,Suicide Prevention
ATTACH;FMTTYPE=image/png:https://restoreall.org/wp-content/uploads/2024/05/May-20-24-Facilitated-Conversation_Changing-the-Narrative-on-Mental-Health-and-Suicide-Prevention-3.png
END:VEVENT
BEGIN:VEVENT
DTSTART;TZID=America/Chicago:20240503T100000
DTEND;TZID=America/Chicago:20240504T130000
DTSTAMP:20260419T135809
CREATED:20240503T170755Z
LAST-MODIFIED:20240503T170849Z
UID:428-1714730400-1714827600@restoreall.org
SUMMARY:Youth Mental Health First Aid Training
DESCRIPTION:Mental Health First Aid Is An 8-hour Free Training Course Designed to Give Members Of The Public Key Skills to Help Someone Who Is Experiencing A Mental Health Crisis. \nFriday\, May 3 & Saturday\, May 4\, 2024 \n10:00 am – 1:00 pm\nBlended: 1st day online & 2nd day in-person \nFairview Community Health and Wellness Hub\, 45 W 10th St\, St Paul\, MN 55102 \n 
URL:https://restoreall.org/event/youth-mental-health-first-aid-training/
LOCATION:Fairview Community Health and Wellness Hub\, 45 W 10th St\, St Paul\, MN\, 55102\, United States
CATEGORIES:Health and Wellness,Mental Health and Suicide Prevention Programs,Skills Training
ATTACH;FMTTYPE=image/png:https://restoreall.org/wp-content/uploads/2024/05/5.3.2024-Youth-Mental-Health-First-Aid-Training.png
END:VEVENT
BEGIN:VEVENT
DTSTART;TZID=America/Chicago:20240406T103000
DTEND;TZID=America/Chicago:20240406T150000
DTSTAMP:20260419T135809
CREATED:20240330T213600Z
LAST-MODIFIED:20240330T213600Z
UID:426-1712399400-1712415600@restoreall.org
SUMMARY:Spring Mental Wellness Conference
DESCRIPTION:Fostering Trauma-Aware and Empathetic Schools to Support Refugees\, Immigrants\, Asylum Seekers\, and Undocumented Students\nThis workshop aims to equip educators\, school administrators\, counselors\, and support staff with the knowledge and skills needed to create trauma-aware and empathetic learning environments for students who are refugees\, immigrants\, asylum seekers\, and undocumented individuals. Participants will explore strategies for understanding and addressing trauma\, fostering empathy\, promoting inclusivity\, supportive school policies\, and providing targeted support to help these students thrive academically and emotionally. \n“Empathy is seeing with the eyes of another\, listening with the ears of another\, and feeling with the heart of another.” – Alfred Adler \nLocation \nWilder Center Auditorium | The Amherst H. Wilder Foundation | 451 Lexington Pkwy N\, St Paul\, MN 55104 \nDate & Time \nSaturday\, April 6th\, 2024 | 10:30 AM to 3:00 PM \nRegistration \nhttps://forms.gle/oZRaHXsy6ehWUta39
URL:https://restoreall.org/event/spring-mental-wellness-conference/
LOCATION:Amherst  H. Wilder Foundation\, 451 Lexington Parkway North\, Saint Paul\, MN\, 55104\, United States
CATEGORIES:Health and Wellness,Mental Health and Suicide Prevention Programs,Skills Training,Spring Conference
ATTACH;FMTTYPE=image/png:https://restoreall.org/wp-content/uploads/2024/03/Add-a-heading-1.png
ORGANIZER;CN="Restoration for All Inc.":MAILTO:tmola@restoreall.org
END:VEVENT
BEGIN:VEVENT
DTSTART;TZID=America/Chicago:20230825T130000
DTEND;TZID=America/Chicago:20230825T180000
DTSTAMP:20260419T135809
CREATED:20230801T082415Z
LAST-MODIFIED:20230801T082516Z
UID:390-1692968400-1692986400@restoreall.org
SUMMARY:Back to School\, Community Mental Wellness & Safety Event.
DESCRIPTION:Restoration for All Inc. in partnership with Ramsey County\, PIR\, Masjid As-Sunnah Islamic Center & MDH is inviting you to our Community Mental Wellness & Safety Event.\nWe will be distributing FREE backpacks with supplies for students pre – k to 12th grade. Children must be present! \n 
URL:https://restoreall.org/event/back-to-school-community-mental-wellness-safety-event/
LOCATION:Masjid As-Sunnah\, 373 Pedersen St\, St. Paul\, MN\, 55119\, United States
CATEGORIES:Back to School,Mental Health and Suicide Prevention Programs
ATTACH;FMTTYPE=image/png:https://restoreall.org/wp-content/uploads/2023/08/August-25th-COVID-19-Comprehensive-Health-Recovery-Event-1.png
END:VEVENT
BEGIN:VEVENT
DTSTART;TZID=America/Chicago:20230328T101500
DTEND;TZID=America/Chicago:20230328T110000
DTSTAMP:20260419T135809
CREATED:20230308T181851Z
LAST-MODIFIED:20230308T181851Z
UID:363-1679998500-1680001200@restoreall.org
SUMMARY:Join Us to Learn How to Become a Licensed Childcare Provider
DESCRIPTION:Join us to learn more about becoming a licensed child care professional\, including a legal nonlicensed provider (LNL).
URL:https://restoreall.org/event/join-us-to-learn-how-to-become-a-licensed-childcare-provider/
LOCATION:Online
CATEGORIES:Legal Non-licensed Provider (LNL)
ATTACH;FMTTYPE=image/png:https://restoreall.org/wp-content/uploads/2023/03/How-to-Become-a-Licensed-Childcare-Provider-4.png
END:VEVENT
BEGIN:VEVENT
DTSTART;TZID=America/Chicago:20230325T110000
DTEND;TZID=America/Chicago:20230325T150000
DTSTAMP:20260419T135809
CREATED:20230306T200855Z
LAST-MODIFIED:20230306T200855Z
UID:355-1679742000-1679756400@restoreall.org
SUMMARY:Family Matters: Family as a Social Determinant of Immigrant and Refugee Students' Mental Health
DESCRIPTION:You’re Invited to our Spring Conference
URL:https://restoreall.org/event/family-matters-family-as-a-social-determinant-of-immigrant-and-refugee-students-mental-health/
LOCATION:Diamond Head Education Center\, 200 Burnsville Pkwy\, Burnsville\, MN\, 55337\, United States
CATEGORIES:Mental Health and Suicide Prevention Programs,Skills Training,Spring Conference
ATTACH;FMTTYPE=image/png:https://restoreall.org/wp-content/uploads/2023/03/Spring-Conference-flyer-3.png
END:VEVENT
END:VCALENDAR