BEGIN:VCALENDAR
VERSION:2.0
PRODID:-//Restoration for All - ECPv6.15.20//NONSGML v1.0//EN
CALSCALE:GREGORIAN
METHOD:PUBLISH
X-ORIGINAL-URL:https://restoreall.org
X-WR-CALDESC:Events for Restoration for All
REFRESH-INTERVAL;VALUE=DURATION:PT1H
X-Robots-Tag:noindex
X-PUBLISHED-TTL:PT1H
BEGIN:VTIMEZONE
TZID:America/Chicago
BEGIN:DAYLIGHT
TZOFFSETFROM:-0600
TZOFFSETTO:-0500
TZNAME:CDT
DTSTART:20250309T080000
END:DAYLIGHT
BEGIN:STANDARD
TZOFFSETFROM:-0500
TZOFFSETTO:-0600
TZNAME:CST
DTSTART:20251102T070000
END:STANDARD
BEGIN:DAYLIGHT
TZOFFSETFROM:-0600
TZOFFSETTO:-0500
TZNAME:CDT
DTSTART:20260308T080000
END:DAYLIGHT
BEGIN:STANDARD
TZOFFSETFROM:-0500
TZOFFSETTO:-0600
TZNAME:CST
DTSTART:20261101T070000
END:STANDARD
BEGIN:DAYLIGHT
TZOFFSETFROM:-0600
TZOFFSETTO:-0500
TZNAME:CDT
DTSTART:20270314T080000
END:DAYLIGHT
BEGIN:STANDARD
TZOFFSETFROM:-0500
TZOFFSETTO:-0600
TZNAME:CST
DTSTART:20271107T070000
END:STANDARD
END:VTIMEZONE
BEGIN:VEVENT
DTSTART;TZID=America/Chicago:20260329T140000
DTEND;TZID=America/Chicago:20260329T150000
DTSTAMP:20260420T071206
CREATED:20260326T194612Z
LAST-MODIFIED:20260326T194612Z
UID:5838-1774792800-1774796400@restoreall.org
SUMMARY:Follow Along Program Information Fair
DESCRIPTION:
URL:https://restoreall.org/event/follow-along-program-information-fair/
LOCATION:RCCG Restoration Chapel\, 1535 Como Ave\, St. Paul\, MN\, 55068\, United States
CATEGORIES:Resources & Support
ATTACH;FMTTYPE=application/pdf:https://restoreall.org/wp-content/uploads/2026/03/03292026-FFN-Follow-Along-Program-Flyer-2.pdf
ORGANIZER;CN="Progressive Individual Resources Inc":MAILTO:info@pirimn.org
END:VEVENT
END:VCALENDAR