BEGIN:VCALENDAR
VERSION:2.0
PRODID:-//Restoration for All - ECPv6.15.20//NONSGML v1.0//EN
CALSCALE:GREGORIAN
METHOD:PUBLISH
X-ORIGINAL-URL:https://restoreall.org
X-WR-CALDESC:Events for Restoration for All
REFRESH-INTERVAL;VALUE=DURATION:PT1H
X-Robots-Tag:noindex
X-PUBLISHED-TTL:PT1H
BEGIN:VTIMEZONE
TZID:America/Chicago
BEGIN:DAYLIGHT
TZOFFSETFROM:-0600
TZOFFSETTO:-0500
TZNAME:CDT
DTSTART:20240310T080000
END:DAYLIGHT
BEGIN:STANDARD
TZOFFSETFROM:-0500
TZOFFSETTO:-0600
TZNAME:CST
DTSTART:20241103T070000
END:STANDARD
BEGIN:DAYLIGHT
TZOFFSETFROM:-0600
TZOFFSETTO:-0500
TZNAME:CDT
DTSTART:20250309T080000
END:DAYLIGHT
BEGIN:STANDARD
TZOFFSETFROM:-0500
TZOFFSETTO:-0600
TZNAME:CST
DTSTART:20251102T070000
END:STANDARD
BEGIN:DAYLIGHT
TZOFFSETFROM:-0600
TZOFFSETTO:-0500
TZNAME:CDT
DTSTART:20260308T080000
END:DAYLIGHT
BEGIN:STANDARD
TZOFFSETFROM:-0500
TZOFFSETTO:-0600
TZNAME:CST
DTSTART:20261101T070000
END:STANDARD
END:VTIMEZONE
BEGIN:VEVENT
DTSTART;TZID=America/Chicago:20250613T123000
DTEND;TZID=America/Chicago:20250613T173000
DTSTAMP:20260423T080759
CREATED:20250529T164531Z
LAST-MODIFIED:20250612T190257Z
UID:3306-1749817800-1749835800@restoreall.org
SUMMARY:Juneteenth Celebration: Community Vaccinations Available
DESCRIPTION:Join us this Juneteenth as we honor freedom\, reflect on our shared history\, and come together in community and fellowship to build a safer\, stronger future for all. This year\, we center our celebration around violence prevention—lifting up the voices and efforts working toward peace\, healing\, and resilience in our neighborhoods. Through food\, music\, storytelling\, and community dialogue\, we aim to reclaim space\, spread love\, and cultivate lasting change. \nVaccinations for COVID-19 will be available for free. \nFriday\, June 13th\, 2025 | 12:30 pm to 5:30 pm
URL:https://restoreall.org/event/juneteenth-celebration-community-vaccinations-available/
LOCATION:Shiloh Cares Foodshelf\, 1201 W. Broadway\, Minneapolis\, MN\, 55411\, United States
CATEGORIES:COVID-19 Home Tests,COVID-19 Vaccine,Health and Wellness,Health Screening,Resources and Education
ATTACH;FMTTYPE=image/png:https://restoreall.org/wp-content/uploads/2025/05/June-13th-2025.png
END:VEVENT
BEGIN:VEVENT
DTSTART;TZID=America/Chicago:20250528T140000
DTEND;TZID=America/Chicago:20250528T160000
DTSTAMP:20260423T080759
CREATED:20250529T162836Z
LAST-MODIFIED:20250529T162839Z
UID:3300-1748440800-1748448000@restoreall.org
SUMMARY:Community Vaccination Event
DESCRIPTION:
URL:https://restoreall.org/event/community-vaccination-event-2/
LOCATION:North Regional Library\, 1315 Lowry Ave N\, Minneapolis\, MN\, 55411\, United States
CATEGORIES:COVID-19 Vaccine,Health and Wellness,Health Screening
ATTACH;FMTTYPE=application/pdf:https://restoreall.org/wp-content/uploads/2025/05/Feb-26-2-2.pdf
END:VEVENT
BEGIN:VEVENT
DTSTART;TZID=America/Chicago:20250309T130000
DTEND;TZID=America/Chicago:20250309T170000
DTSTAMP:20260423T080759
CREATED:20250209T162647Z
LAST-MODIFIED:20250307T150314Z
UID:457-1741525200-1741539600@restoreall.org
SUMMARY:Community Vaccination Event
DESCRIPTION:Odam Community Clinic will be offering health screenings as well as flu and COVID-19 shots. \n$25 gift card is available for those who receive the COVID-19 vaccine! \nSunday\, March 9th\, 2025 | 1:00 pm to 5:00 pm \nMaplewood YMCA Community Center\, 2100 White Bear Ave\, Maplewood\, MN 55109
URL:https://restoreall.org/event/community-vaccination-event/
LOCATION:Maplewood YMCA Community Center\, 2100 White Bear Ave\, Maplewood\, MN 55109\, Maplewood\, MN\, 55109\, United States
CATEGORIES:COVID-19 Vaccine,Flu Vaccine,Health and Wellness,Health Screening
ATTACH;FMTTYPE=image/png:https://restoreall.org/wp-content/uploads/2025/02/March-9.png
END:VEVENT
END:VCALENDAR