BEGIN:VCALENDAR
VERSION:2.0
PRODID:-//Restoration for All - ECPv6.15.20//NONSGML v1.0//EN
CALSCALE:GREGORIAN
METHOD:PUBLISH
X-WR-CALNAME:Restoration for All
X-ORIGINAL-URL:https://restoreall.org
X-WR-CALDESC:Events for Restoration for All
REFRESH-INTERVAL;VALUE=DURATION:PT1H
X-Robots-Tag:noindex
X-PUBLISHED-TTL:PT1H
BEGIN:VTIMEZONE
TZID:America/Chicago
BEGIN:DAYLIGHT
TZOFFSETFROM:-0600
TZOFFSETTO:-0500
TZNAME:CDT
DTSTART:20240310T080000
END:DAYLIGHT
BEGIN:STANDARD
TZOFFSETFROM:-0500
TZOFFSETTO:-0600
TZNAME:CST
DTSTART:20241103T070000
END:STANDARD
BEGIN:DAYLIGHT
TZOFFSETFROM:-0600
TZOFFSETTO:-0500
TZNAME:CDT
DTSTART:20250309T080000
END:DAYLIGHT
BEGIN:STANDARD
TZOFFSETFROM:-0500
TZOFFSETTO:-0600
TZNAME:CST
DTSTART:20251102T070000
END:STANDARD
BEGIN:DAYLIGHT
TZOFFSETFROM:-0600
TZOFFSETTO:-0500
TZNAME:CDT
DTSTART:20260308T080000
END:DAYLIGHT
BEGIN:STANDARD
TZOFFSETFROM:-0500
TZOFFSETTO:-0600
TZNAME:CST
DTSTART:20261101T070000
END:STANDARD
END:VTIMEZONE
BEGIN:VEVENT
DTSTART;TZID=America/Chicago:20250531T130000
DTEND;TZID=America/Chicago:20250531T160000
DTSTAMP:20260421T070751
CREATED:20250523T154311Z
LAST-MODIFIED:20250523T154542Z
UID:656-1748696400-1748707200@restoreall.org
SUMMARY:Wellness in the Park
DESCRIPTION:Bring your friends and family to celebrate Mental Health Awareness Month with Ramsey County and partner organizations. \nThis free event will have something for everyone. \n\nFood trucks\nRaffles\nTrivia\nBingo\, art\, & an obstacle course\nPrizes and gift cards\n\n  \nRSVP if you are planning to attend. The first 120 people who RSVP will receive meal tickets that can be used at the food trucks onsite. \nPartner organizations attending and providing additional activities and resources: Metro Social Services\, Handy Help\, RADIAS Health\, Wilder Foundation\, Mental Health Resources and People Inc. \nPhalen Recreation Center is ADA accessible.
URL:https://restoreall.org/event/wellness-in-the-park/
LOCATION:Phalen Recreation Center\, 1000 E Wheelock Pkwy\, St Paul\, MN\, 55106\, United States
CATEGORIES:Mental Health and Suicide Prevention Programs,Mental Health Awareness
ATTACH;FMTTYPE=application/pdf:https://restoreall.org/wp-content/uploads/2025/05/Updated_Wellness-in-the-park-Mental-Health-Awareness-Month_May_31_Phalen-1.pdf
END:VEVENT
END:VCALENDAR